BEGIN:VCALENDAR
VERSION:2.0
PRODID:-//Aspen Mastermind - ECPv6.15.20//NONSGML v1.0//EN
CALSCALE:GREGORIAN
METHOD:PUBLISH
X-WR-CALNAME:Aspen Mastermind
X-ORIGINAL-URL:https://aspenmastermind.com
X-WR-CALDESC:Events for Aspen Mastermind
REFRESH-INTERVAL;VALUE=DURATION:PT1H
X-Robots-Tag:noindex
X-PUBLISHED-TTL:PT1H
BEGIN:VTIMEZONE
TZID:America/Denver
BEGIN:DAYLIGHT
TZOFFSETFROM:-0700
TZOFFSETTO:-0600
TZNAME:MDT
DTSTART:20200308T090000
END:DAYLIGHT
BEGIN:STANDARD
TZOFFSETFROM:-0600
TZOFFSETTO:-0700
TZNAME:MST
DTSTART:20201101T080000
END:STANDARD
BEGIN:DAYLIGHT
TZOFFSETFROM:-0700
TZOFFSETTO:-0600
TZNAME:MDT
DTSTART:20210314T090000
END:DAYLIGHT
BEGIN:STANDARD
TZOFFSETFROM:-0600
TZOFFSETTO:-0700
TZNAME:MST
DTSTART:20211107T080000
END:STANDARD
BEGIN:DAYLIGHT
TZOFFSETFROM:-0700
TZOFFSETTO:-0600
TZNAME:MDT
DTSTART:20220313T090000
END:DAYLIGHT
BEGIN:STANDARD
TZOFFSETFROM:-0600
TZOFFSETTO:-0700
TZNAME:MST
DTSTART:20221106T080000
END:STANDARD
END:VTIMEZONE
BEGIN:VTIMEZONE
TZID:Asia/Krasnoyarsk
BEGIN:STANDARD
TZOFFSETFROM:+0700
TZOFFSETTO:+0700
TZNAME:+07
DTSTART:20200101T000000
END:STANDARD
END:VTIMEZONE
BEGIN:VEVENT
DTSTART;TZID=America/Denver:20210818T120000
DTEND;TZID=America/Denver:20210818T140000
DTSTAMP:20260423T190545
CREATED:20210809T163026Z
LAST-MODIFIED:20210809T170157Z
UID:235-1629288000-1629295200@aspenmastermind.com
SUMMARY:John Rose of Duke University
DESCRIPTION:John Rose of Duke UniversityDiscussing education and fostering an environment for honest conversation about controversial issues. \nDate: August 18thTime: 12:00 pm MST \nRegister Here.
URL:https://aspenmastermind.com/event/john-rose-of-duke-university/
END:VEVENT
BEGIN:VEVENT
DTSTART;TZID=America/Denver:20210811T120000
DTEND;TZID=America/Denver:20210811T140000
DTSTAMP:20260423T190545
CREATED:20210809T161316Z
LAST-MODIFIED:20210811T155628Z
UID:231-1628683200-1628690400@aspenmastermind.com
SUMMARY:DALE BUCKNER CEO\, GLOBAL GUARDIAN
DESCRIPTION:DALE BUCKNERCEO\, Global Guardian \nThe world leader in security services & emergency response in the U.S.& 125+ countries globally!  \nFighting Domestic Terrorism & PandemicsTaking on Global Travel & Your Safety \nWhat’s ahead for the world? \nModerated by Greg Lewis\nDate: August 11Time: 12:00 pm MSTRegister Here
URL:https://aspenmastermind.com/event/the-leadville-100/
END:VEVENT
BEGIN:VEVENT
DTSTART;TZID=Asia/Krasnoyarsk:20210804T120000
DTEND;TZID=Asia/Krasnoyarsk:20210804T133000
DTSTAMP:20260423T190545
CREATED:20210701T031943Z
LAST-MODIFIED:20210702T201942Z
UID:194-1628078400-1628083800@aspenmastermind.com
SUMMARY:August 4: Paul Katzeff
DESCRIPTION:Paul Katzeff\n Founder of Thanksgiving Coffee\, and campaign manager to Hunter S. Thompson during his 1970 run for Pitkin County Sheriff (Aspen).\nDate: August 4Time: 12:00 pm MSTZoom Link Coming Soon
URL:https://aspenmastermind.com/event/august-4-paul-katzeff/
END:VEVENT
BEGIN:VEVENT
DTSTART;TZID=Asia/Krasnoyarsk:20210728T120000
DTEND;TZID=Asia/Krasnoyarsk:20210728T130000
DTSTAMP:20260423T190545
CREATED:20210701T031500Z
LAST-MODIFIED:20210701T035325Z
UID:191-1627473600-1627477200@aspenmastermind.com
SUMMARY:July 28: Raz Ingrasci
DESCRIPTION:Raz Ingrasci\nFounder\, Teacher\,  The Hoffman Institute.\nDate: July 28Time: 12:00 pm MSTZoom Link Coming Soon
URL:https://aspenmastermind.com/event/july-28-raz-ingrasci/
END:VEVENT
BEGIN:VEVENT
DTSTART;TZID=Asia/Krasnoyarsk:20210721T120000
DTEND;TZID=Asia/Krasnoyarsk:20210721T130000
DTSTAMP:20260423T190545
CREATED:20210701T030425Z
LAST-MODIFIED:20210701T030954Z
UID:187-1626868800-1626872400@aspenmastermind.com
SUMMARY:July 21: TBD
DESCRIPTION:TBD\nTBD\nDate: July 21Time: 12:00 pm MSTZoom Link Coming Soon
URL:https://aspenmastermind.com/event/july-21-tbd/
END:VEVENT
BEGIN:VEVENT
DTSTART;TZID=Asia/Krasnoyarsk:20210714T120000
DTEND;TZID=Asia/Krasnoyarsk:20210714T130000
DTSTAMP:20260423T190545
CREATED:20210701T024101Z
LAST-MODIFIED:20210701T024511Z
UID:181-1626264000-1626267600@aspenmastermind.com
SUMMARY:July 14: Michael Greenwald
DESCRIPTION: Michael Greenwald\nDirector at Tiedemann Advisors\, discussing digital currencies and the race for the future of money\, moderated by Roy Vella. (Click HERE for recommended reading).\nDate: July 14Time: 12:00 pm MSTZoom Link Coming Soon
URL:https://aspenmastermind.com/event/july-14-michael-greenwald/
END:VEVENT
BEGIN:VEVENT
DTSTART;TZID=Asia/Krasnoyarsk:20210707T120000
DTEND;TZID=Asia/Krasnoyarsk:20210707T130000
DTSTAMP:20260423T190545
CREATED:20210701T021837Z
LAST-MODIFIED:20210701T024418Z
UID:176-1625659200-1625662800@aspenmastermind.com
SUMMARY:July 7: Stephen Apkon & Marcina Hale
DESCRIPTION:Stephen Apkon & Marcina Hale\nFilmmakers and researchers\, co-founders of Reconsider.org\, advisors at American Friends of Combatants for Peace.\nDate: July 7Time: 12:00 pm MSTZoom Link Coming Soon
URL:https://aspenmastermind.com/event/july-7-stephen-apkon-marcina-hale/
END:VEVENT
END:VCALENDAR